BEGIN:VCALENDAR
VERSION:2.0
PRODID:-//Tukios.com/
BEGIN:VEVENT
UID:6d162ba8-6b54-4254-b94b-f6bb739d51e5@www.evansfuneralhome.com
DTSTAMP:20260424T233318Z
DTSTART:20260430T220000Z
DTEND:20260501T000000Z
SUMMARY:Memorial Service
DESCRIPTION:
URL:https://www.evansfuneralhome.com/obituaries/andrew-scandura
LOCATION: 6710 Goshen Rd  Goshen OH 45122
GEO:39.2291558;-84.1552611
END:VEVENT
END:VCALENDAR