BEGIN:VCALENDAR
VERSION:2.0
PRODID:-//Tukios.com/
BEGIN:VEVENT
UID:fe250b3a-c03c-4413-bae4-d886988cfc17@www.evansfuneralhome.com
DTSTAMP:20260423T172731Z
DTSTART:20260428T160000Z
DTEND:20260428T170000Z
SUMMARY:Memorial Service
DESCRIPTION:
URL:https://www.evansfuneralhome.com/obituaries/barbara-burnett
LOCATION:Evans Funeral Home Milford 741 Center Street  Milford OH 45150
GEO:39.1771661;-84.2872457
END:VEVENT
END:VCALENDAR