BEGIN:VCALENDAR
VERSION:2.0
PRODID:-//Tukios.com/
BEGIN:VEVENT
UID:2b0ae811-657c-4c6f-b0c0-fda036808ab5@www.evansfuneralhome.com
DTSTAMP:20260423T172806Z
DTSTART:20260428T150000Z
DTEND:20260428T160000Z
SUMMARY:Visitation
DESCRIPTION:
URL:https://www.evansfuneralhome.com/obituaries/barbara-burnett
LOCATION:Evans Funeral Home Milford 741 Center Street  Milford OH 45150
GEO:39.1771661;-84.2872457
END:VEVENT
END:VCALENDAR