BEGIN:VCALENDAR
VERSION:2.0
PRODID:-//Tukios.com/
BEGIN:VEVENT
UID:b1a92f8c-f59b-4ba2-bc48-d7a35df6cead@www.evansfuneralhome.com
DTSTAMP:20260423T215554Z
DTSTART:20260525T170000Z
DTEND:20260525T210000Z
SUMMARY:Celebration of Life
DESCRIPTION:
URL:https://www.evansfuneralhome.com/obituaries/judith-ruehl
LOCATION:Peaceful Valley 1799 Craver Road  Batavia OH 45103
GEO:39.1425885;-84.1839531
END:VEVENT
END:VCALENDAR