BEGIN:VCALENDAR
VERSION:2.0
PRODID:-//Tukios.com/
BEGIN:VEVENT
UID:b35ee9c7-e556-4db3-93da-7f6017d3b705@www.evansfuneralhome.com
DTSTAMP:20260423T162336Z
DTSTART:20260428T160000Z
DTEND:20260428T170000Z
SUMMARY:Funeral Service
DESCRIPTION:
URL:https://www.evansfuneralhome.com/obituaries/leonard-wilder
LOCATION:Landmark Church 1600 Glendale Milford Road  Cincinnati OH 45215
GEO:39.2601566;-84.4451322
END:VEVENT
END:VCALENDAR