BEGIN:VCALENDAR
VERSION:2.0
PRODID:-//Tukios.com/
BEGIN:VEVENT
UID:cc189b61-dc6c-4a9b-bd59-790f6220a87d@www.evansfuneralhome.com
DTSTAMP:20260423T162231Z
DTSTART:20260428T140000Z
DTEND:20260428T160000Z
SUMMARY:Visitation
DESCRIPTION:
URL:https://www.evansfuneralhome.com/obituaries/leonard-wilder
LOCATION:Landmark Church 1600 Glendale Milford Road  Cincinnati OH 45215
GEO:39.2601566;-84.4451322
END:VEVENT
END:VCALENDAR