BEGIN:VCALENDAR
VERSION:2.0
PRODID:-//Tukios.com/
BEGIN:VEVENT
UID:b68d3ba7-a8f7-46cf-b955-9ba8ec85fe61@www.evansfuneralhome.com
DTSTAMP:20260420T223036Z
DTSTART:20260502T140000Z
DTEND:20260502T150000Z
SUMMARY:Mass
DESCRIPTION:
URL:https://www.evansfuneralhome.com/obituaries/mildred-helm
LOCATION:St. Columban Church 894 Oakland Road  Loveland OH 45140
GEO:39.2592585;-84.24689
END:VEVENT
END:VCALENDAR