BEGIN:VCALENDAR
VERSION:2.0
PRODID:-//Tukios.com/
BEGIN:VEVENT
UID:54d6b861-4881-4eb0-b995-3eb659d8cba8@www.evansfuneralhome.com
DTSTAMP:20260423T084814Z
DTSTART:20260423T210000Z
DTEND:20260423T230000Z
SUMMARY:Visitation
DESCRIPTION:
URL:https://www.evansfuneralhome.com/obituaries/tammy-ruehrwein
LOCATION:Evans Funeral Home Milford 741 Center Street  Milford OH 45150
GEO:39.1771661;-84.2872457
END:VEVENT
END:VCALENDAR